BEGIN:VCALENDAR
VERSION:2.0
PRODID:-//Department Of Education//96cf981c-180f-417c-aee6-76f6efbf6d57
BEGIN:VTIMEZONE
TZID:Australia/Sydney
TZURL:http://tzurl.org/zoneinfo-outlook/Australia/Sydney
X-LIC-LOCATION:Australia/Sydney
BEGIN:STANDARD
TZOFFSETFROM:+1100
TZOFFSETTO:+1000
TZNAME:AEST
DTSTART:19700405T030000
RRULE:FREQ=YEARLY;BYMONTH=4;BYDAY=1SU
END:STANDARD
BEGIN:DAYLIGHT
TZOFFSETFROM:+1000
TZOFFSETTO:+1100
TZNAME:AEDT
DTSTART:19701004T020000
RRULE:FREQ=YEARLY;BYMONTH=10;BYDAY=1SU
END:DAYLIGHT
END:VTIMEZONE
CALSCALE:GREGORIAN
X-WR-TIMEZONE:Australia/Sydney
BEGIN:VEVENT
DTSTART;VALUE=DATE:20200629
DTEND;VALUE=DATE:20200704
DTSTAMP:20200629T000000Z
UID:b5ca45d5-290a-4eec-8d13-b276d5b9680e
LOCATION:Canberra
SUMMARY;LANGUAGE=en-us:Yr 6 Canberra Excursion
SEQUENCE:0
DESCRIPTION:Yr 6 Canberra Excursion Approx cost $970
END:VEVENT
TRANSP:TRANSPARENT
END:VCALENDAR
