BEGIN:VCALENDAR
VERSION:2.0
PRODID:-//Department Of Education//8ef24e66-f8e2-47fd-be78-86f359db7405
BEGIN:VTIMEZONE
TZID:Australia/Sydney
TZURL:http://tzurl.org/zoneinfo-outlook/Australia/Sydney
X-LIC-LOCATION:Australia/Sydney
BEGIN:STANDARD
TZOFFSETFROM:+1100
TZOFFSETTO:+1000
TZNAME:AEST
DTSTART:19700405T030000
RRULE:FREQ=YEARLY;BYMONTH=4;BYDAY=1SU
END:STANDARD
BEGIN:DAYLIGHT
TZOFFSETFROM:+1000
TZOFFSETTO:+1100
TZNAME:AEDT
DTSTART:19701004T020000
RRULE:FREQ=YEARLY;BYMONTH=10;BYDAY=1SU
END:DAYLIGHT
END:VTIMEZONE
CALSCALE:GREGORIAN
X-WR-TIMEZONE:Australia/Sydney
BEGIN:VEVENT
DTSTART;VALUE=DATE:20200610
DTEND;VALUE=DATE:20200611
DTSTAMP:20200610T000000Z
UID:ab2dd553-ae54-4f7e-8783-41d3a2bd54f0
LOCATION:TPS Hall
SUMMARY;LANGUAGE=en-us:School Photographs
SEQUENCE:0
DESCRIPTION:Professional School Photographs
END:VEVENT
TRANSP:TRANSPARENT
END:VCALENDAR
