BEGIN:VCALENDAR
VERSION:2.0
PRODID:-//Department Of Education//370dc57e-1165-43b7-85d5-9f0e46e82613
BEGIN:VTIMEZONE
TZID:Australia/Sydney
TZURL:http://tzurl.org/zoneinfo-outlook/Australia/Sydney
X-LIC-LOCATION:Australia/Sydney
BEGIN:STANDARD
TZOFFSETFROM:+1100
TZOFFSETTO:+1000
TZNAME:AEST
DTSTART:19700405T030000
RRULE:FREQ=YEARLY;BYMONTH=4;BYDAY=1SU
END:STANDARD
BEGIN:DAYLIGHT
TZOFFSETFROM:+1000
TZOFFSETTO:+1100
TZNAME:AEDT
DTSTART:19701004T020000
RRULE:FREQ=YEARLY;BYMONTH=10;BYDAY=1SU
END:DAYLIGHT
END:VTIMEZONE
CALSCALE:GREGORIAN
X-WR-TIMEZONE:Australia/Sydney
BEGIN:VEVENT
DTSTART;VALUE=DATE:20200602
DTEND;VALUE=DATE:20200605
DTSTAMP:20200602T000000Z
UID:669e5860-390a-473a-bcb1-fbe51dc679bf
LOCATION:HOTA (Former Gold Coast Arts Centre)
SUMMARY;LANGUAGE=en-us:FNC Dance Festival 
SEQUENCE:0
DESCRIPTION:FNC Dance Festival Date TBA - Tuesday 2nd, Wednesday 3rd or Thursday 4th June 2020  Selected Yr 2, 4 & 6 students only, $60  
END:VEVENT
TRANSP:TRANSPARENT
END:VCALENDAR
