BEGIN:VCALENDAR
VERSION:2.0
PRODID:-//Department Of Education//ee1bc34a-00b5-4445-8be9-8efc5efdb660
BEGIN:VTIMEZONE
TZID:Australia/Sydney
TZURL:http://tzurl.org/zoneinfo-outlook/Australia/Sydney
X-LIC-LOCATION:Australia/Sydney
BEGIN:STANDARD
TZOFFSETFROM:+1100
TZOFFSETTO:+1000
TZNAME:AEST
DTSTART:19700405T030000
RRULE:FREQ=YEARLY;BYMONTH=4;BYDAY=1SU
END:STANDARD
BEGIN:DAYLIGHT
TZOFFSETFROM:+1000
TZOFFSETTO:+1100
TZNAME:AEDT
DTSTART:19701004T020000
RRULE:FREQ=YEARLY;BYMONTH=10;BYDAY=1SU
END:DAYLIGHT
END:VTIMEZONE
CALSCALE:GREGORIAN
X-WR-TIMEZONE:Australia/Sydney
BEGIN:VEVENT
DTSTART;VALUE=DATE:20200327
DTEND;VALUE=DATE:20200328
DTSTAMP:20200327T000000Z
UID:61684787-7fbc-46f8-a06a-9c3788bd5041
LOCATION:TPS Oval
SUMMARY;LANGUAGE=en-us:School Cross Country
SEQUENCE:0
DESCRIPTION:School Cross Country
END:VEVENT
TRANSP:TRANSPARENT
END:VCALENDAR
