BEGIN:VCALENDAR
VERSION:2.0
PRODID:-//Department Of Education//851f30a8-354c-4eda-a51c-cafd1e5c5a02
BEGIN:VTIMEZONE
TZID:Australia/Sydney
TZURL:http://tzurl.org/zoneinfo-outlook/Australia/Sydney
X-LIC-LOCATION:Australia/Sydney
BEGIN:STANDARD
TZOFFSETFROM:+1100
TZOFFSETTO:+1000
TZNAME:AEST
DTSTART:19700405T030000
RRULE:FREQ=YEARLY;BYMONTH=4;BYDAY=1SU
END:STANDARD
BEGIN:DAYLIGHT
TZOFFSETFROM:+1000
TZOFFSETTO:+1100
TZNAME:AEDT
DTSTART:19701004T020000
RRULE:FREQ=YEARLY;BYMONTH=10;BYDAY=1SU
END:DAYLIGHT
END:VTIMEZONE
CALSCALE:GREGORIAN
X-WR-TIMEZONE:Australia/Sydney
BEGIN:VEVENT
DTSTART;VALUE=DATE:20200302
DTEND;VALUE=DATE:20200307
DTSTAMP:20200302T000000Z
UID:3a129c07-d953-4ca1-86bc-d0839ee41302
LOCATION:Classroom
SUMMARY;LANGUAGE=en-us:Parent Teacher Interviews
SEQUENCE:0
DESCRIPTION:Parent Teacher Interviews The Booking Code has been sent home with students and via e-mail to parents. Book Now
END:VEVENT
TRANSP:TRANSPARENT
END:VCALENDAR
